BEGIN:VCALENDAR
VERSION:2.0
X-WR-TIMEZONE:Europe/Paris
PRODID:-//Audencia//NONSGML v1.0//EN
CALSCALE:GREGORIAN
BEGIN:VEVENT
SUMMARY:CCI France Chine Event: Journée franco-chinoise de la propriété intellectuelle
DTSTART:20231109T083000
DTEND:20231109T113000
UID:1671
DTSTAMP:20260425T205903
LOCATION:French Embassy in Beijing
DESCRIPTION:\n\n \nDate & Time: Thursday 9 November 2023, 3:30 - 6:30pm\n\nEvent format: On-site at the French Embassy in Beijing + Webinar\n\nLanguage : French & Chinese\n\nRegistration: Please scan the QR Code or click here\n \n\n\n
BEGIN:VALARM
ACTION:DISPLAY
TRIGGER:-PT60M
DESCRIPTION:CCI France Chine Event: Journée franco-chinoise de la propriété intellectuelle
END:VALARM
END:VEVENT
END:VCALENDAR