BEGIN:VCALENDAR
VERSION:2.0
X-WR-TIMEZONE:Europe/Paris
PRODID:-//Audencia//NONSGML v1.0//EN
CALSCALE:GREGORIAN
BEGIN:VEVENT
SUMMARY:CCI France Chine Event: [Sourcing Working Group] Post 134th Canton Fair Gathering & Experience Sharing
DTSTART:20231107T113000
DTEND:20231107T123000
UID:1670
DTSTAMP:20260425T210002
LOCATION:Shenzhen IN2LOG Supply Chain Co., Ltd., C2 Unit, 3rd Floor, Block A, Li'an Business Building, Dongjiaotou, Shekou, Shenzhen, Guangdong, China
DESCRIPTION:INTRODUCTION \n\n \n\nCCI FRANCE CHINE is delighted to invite you to its next Sourcing Working Group on "Post 134th Canton Fair Gathering & Experience Sharing" in the premises of IN2LOG, Shenzhen.\n\nIndeed after a few difficult years for sourcing in China and a strong comeback of various trade fairs in 2023, CCI FRANCE CHINE and its new Sourcing Working Group Coordinator Adrien Masquelin will lead a roundtable and feedback from the 134th Canton fair and other fairs as well as taking this chance to gather and reconnect with the CCI FRANCE CHINE Sourcing community.\n\n \n\nAGENDA\n\n \n\n\n	Group sourcing new coordinator introduction\n	Group sourcing members introduction\n	Roundtable and feedback from the 134th Canton Fair and other fairs\n	Upcoming Sourcing group meetings and topic\n\n\n \n\nCOORDINATOR\n\nMr. Adrien Masquelin, Director at Shenzhen Export Trending Solution\n \n\nDate: Tuesday 7 November 2023\n\nTime: 6:30 PM - 7:30 PM\n\nVenue: Shenzhen IN2LOG Supply Chain Co., Ltd. \n\nC2 Unit, 3rd Floor, Block A, Li'an Business Building, Dongjiaotou, Shekou, Shenzhen\n深圳市南山区蛇口东角头利安商务大厦A座三楼301单元\n \n\nScan the QR code or click here to register\n\n\n
BEGIN:VALARM
ACTION:DISPLAY
TRIGGER:-PT60M
DESCRIPTION:CCI France Chine Event: [Sourcing Working Group] Post 134th Canton Fair Gathering & Experience Sharing
END:VALARM
END:VEVENT
END:VCALENDAR