BEGIN:VCALENDAR
VERSION:2.0
X-WR-TIMEZONE:Europe/Paris
PRODID:-//Audencia//NONSGML v1.0//EN
CALSCALE:GREGORIAN
BEGIN:VEVENT
SUMMARY:CCI France Chine Event: International Cooperation in the Age of Geopolitical Turbulence
DTSTART:20231103T120000
DTEND:20231103T143000
UID:1669
DTSTAMP:20260425T210032
LOCATION:CCIFC Beijing Office, Suites 201-222, 2F, Building 81, No. 4 Gongti North Road, Beijing, China
DESCRIPTION:\n \n\n \n\nSciences Po conference with the Dean of the School of International Affairs\n\n\n\nCCI FRANCE CHINE  cordially invites you to this event on Friday 3 November, from 7:00 PM to 9:30 PM at CCIFC Beijing office. In collaboration with Sciences Po Alumni, this conference promises to be an enlightening exploration of the challenges and imperatives of global cooperation in our rapidly changing world.\n\nOur distinguished speaker for the evening is Ms. Arancha González, Dean of Sciences Po's Paris School of International Affairs and former Minister of Foreign Affairs for Spain. Drawing upon her wealth of experience and her extensive career, Ms González will delve deep into the complexities of international cooperation amidst the shifting geopolitics of our time. In an era marked by unprecedented geopolitical turbulence, it is imperative to understand the evolving landscape of global cooperation. \n \n\nDate: Friday 3 November \n\nTime:  7:00 pm - 7:30 pm: Registration  \n\n            7:30 pm - 8:30 pm: Conference + Q&A\n\n            8:30 pm - 9:30 pm: Cocktail\n\nVenue: CCI FRANCE CHINE Beijing Office, Suites 201-222, 2F, Building 81, No. 4 Gongti North Road, Beijing\n\nLanguage: English\n\nRegistration: Scan the QR code or click here\n\n\n
BEGIN:VALARM
ACTION:DISPLAY
TRIGGER:-PT60M
DESCRIPTION:CCI France Chine Event: International Cooperation in the Age of Geopolitical Turbulence
END:VALARM
END:VEVENT
END:VCALENDAR