BEGIN:VCALENDAR
VERSION:2.0
X-WR-TIMEZONE:Europe/Paris
PRODID:-//Audencia//NONSGML v1.0//EN
CALSCALE:GREGORIAN
BEGIN:VEVENT
SUMMARY:CCI France Chine Event: European Business in China - Position Paper 2023/2024
DTSTART:20231106T113000
DTEND:20231106T140000
UID:1668
DTSTAMP:20260425T210147
LOCATION:CCIFC Beijing Office
DESCRIPTION:\n \n\nThe European Business in China Position Paper (Position Paper) is the European Chamber's most important publication and the cornerstone of its annual advocacy plan. Compiled by its 48 working groups, sub-working groups, desks, fora and for over a nine-month period, more than 1000 constructive recommendations contained in the Position Paper illustrate both the depth of the challenges faced by European companies in China and their commitment to improving the business environment. \n\n \n\nDate: Monday 6 November\n\n \n\nAgenda:   \n\n6:30 pm - 7:00 pm: Registration\n\n7:00 pm - 8:00 pm: Presentation and Q&A\n\n8:00 pm - 9:00 pm: Cocktail & Networking\n\n \n\nVenue: CCI FRANCE CHINE Beijing Office, Suites 201-222, 2F, Building 81, No. 4 Gongti North Road, Beijing\n\nLanguage: English\n \n\nScan the QR code or click here to register\n\n\n
BEGIN:VALARM
ACTION:DISPLAY
TRIGGER:-PT60M
DESCRIPTION:CCI France Chine Event: European Business in China - Position Paper 2023/2024
END:VALARM
END:VEVENT
END:VCALENDAR