BEGIN:VCALENDAR
VERSION:2.0
X-WR-TIMEZONE:Europe/Paris
PRODID:-//Audencia//NONSGML v1.0//EN
CALSCALE:GREGORIAN
BEGIN:VEVENT
SUMMARY:CCI France Chine Event: Atelier IA Comprendre le futur, pratiquement avec PÉKIN ACCUEIL
DTSTART:20231031T110000
DTEND:20231031T140000
UID:1666
DTSTAMP:20260425T210211
LOCATION:CCI FRANCE CHINE Beijing Office, Suites 201-222, 2F, Building 81, No. 4 Gongti North Road, Beijing, China
DESCRIPTION:\n\n\nPékin Accueil et la CCI FRANCE CHINE sont heureux de vous inviter à un atelier avec Nil Larom. Découvrez les avancées de l'IA à travers des démonstrations interactives pertinentes dans l'industrie et la vie quotidienne. Cet atelier offre une compréhension concrète des technologies émergentes, soulignant leur application pratique dans le monde professionnel et personnel de demain. Venez, apprenez et soyez inspirés.\n \n\nDate : Mardi 31 Octobre\n\nProgramme: \n\n18h - 18h30 Inscriptions\n\n18h30 - 20h Presentation et Q&A\n\n20h00 - 21h00 Cocktail & Networking \n\nLieu: CCI FRANCE CHINE Beijing Office, Suites 201-222, 2F, Building 81, No. 4 Gongti North Road, Beijing\n\nScannez the code QR ou cliquez ici\n\n \n\n\n 
BEGIN:VALARM
ACTION:DISPLAY
TRIGGER:-PT60M
DESCRIPTION:CCI France Chine Event: Atelier IA Comprendre le futur, pratiquement avec PÉKIN ACCUEIL
END:VALARM
END:VEVENT
END:VCALENDAR