BEGIN:VCALENDAR
VERSION:2.0
X-WR-TIMEZONE:Europe/Paris
PRODID:-//Audencia//NONSGML v1.0//EN
CALSCALE:GREGORIAN
BEGIN:VEVENT
SUMMARY:CCI France Chine Event: La Joint-Venture 2.0 - Pourquoi s'y intéresser à nouveau ?
DTSTART:20231026T120000
DTEND:20231026T133000
UID:1665
DTSTAMP:20260425T210004
LOCATION:Bureau CCI FRANCE CHINE de Shanghai & Beijing
DESCRIPTION:\n\n\n \n\nLa JV, forme historique d’implantation en Chine redeviendrait-elle une opportunité après avoir cédé la place à la WFOE ?\n\nCe tour de table réunissant des experts de l’implantation et des entreprises ayant opté pour ce type de partenariat vous permettra de mieux comprendre son évolution, ses caractéristiques, son intérêt et ses contraintes.\n\n\nDate: Jeudi 26 Octobre \n\nHeure: De 18h00 à 19h30 \n\nLangue: Français \n\nFormat: En présentiel + Webinar \n\nLieu: Bureau CCI FRANCE CHINE de Shanghai & Beijing ou Webinar\n\nScannez the code QR ou cliquez ici\n\n\n
BEGIN:VALARM
ACTION:DISPLAY
TRIGGER:-PT60M
DESCRIPTION:CCI France Chine Event: La Joint-Venture 2.0 - Pourquoi s'y intéresser à nouveau ?
END:VALARM
END:VEVENT
END:VCALENDAR