BEGIN:VCALENDAR
VERSION:2.0
X-WR-TIMEZONE:Europe/Paris
PRODID:-//Audencia//NONSGML v1.0//EN
CALSCALE:GREGORIAN
BEGIN:VEVENT
SUMMARY:Club Culture & Management : qui inspire qui ?
DTSTART:20231115T190000
DTEND:20231115T210000
UID:1664
DTSTAMP:20260425T210025
LOCATION:Beaux Arts & Cie 9 boulevard de la Madeleine Paris 1er
DESCRIPTION:\nL’art, les artistes et plus largement la culture semblent inspirer et nourrir les marques, notamment de luxe, qui in fine s'approprient des contenus culturels afin de faire rayonner leur image. Pour exemple, la collaboration entre Uniqlo et le Moma, afin « d’offrir de nombreuses façons d’apporter l’art à tous », selon la directrice associée du Moma, Sarah Suzuki ; ou encore celle de Guerlain et JonOne pour une édition limitée de son mythique flacon aux abeilles lui permettant de s’adresser à un public plus jeune. On parle même du phénomène de l’artketing.\n\nÉgalement en forte croissance, la valorisation des archives et la mise en place de musées et d’expositions destinées à immerger les publics dans l’univers de la marque : la galerie Dior, Pressoria ou encore Thierry Mugler au MAD ou certaines expositions au Palais Galliera \n\nA contrario, les institutions culturelles développent de plus en plus leur image de marque & leurs stratégies culturelles, tant en termes d’offre, qu’en termes de promotion ou de communication.\n\nQui inspire qui ? Quelles sont les similitudes entre ces deux univers ? Quelles sont les bonnes pratiques à mettre en place pour les institutions culturelles? Quelles sont les limites à ne pas dépasser afin de conserver son identité et sa fonction première ?\n\nIntervenants\n\n\n	Cécile François \n	Directrice de Projets de Mécénat / LVMH\n	Gwenaëlle de Kerret \n	Sémiologue, Directrice / SemioTIPS\n	Constance de Marliave \n	Chargée de développement et des projets à l'international / Etablissement public du musée d’Orsay et du musée de l’Orangerie\n\n\nModérateurs\n\n\n	Joséphine de Gouville \n	Culture & Management/responsable Prix Innovation\n\n \n\nRéservez votre place dès maintenant !\n \n\nModalités d'accueil en présentiel :\n- les débats commencent à 19h, l'accueil se fait à partir de 18h30, chez Beaux Arts & Cie, 9 boulevard de la Madeleine, Paris 1er.\n- si vous bénéficiez d'un tarif spécial (tarif chômeur ou tarif étudiant à 15 €), vous devrez nous présenter un justificatif de moins de 3 mois.\n\nAu plaisir de vous retrouver en novembre !\n\nL'équipe du Club Culture & Management\n\n \n\n
BEGIN:VALARM
ACTION:DISPLAY
TRIGGER:-PT60M
DESCRIPTION:Club Culture & Management : qui inspire qui ?
END:VALARM
END:VEVENT
END:VCALENDAR