BEGIN:VCALENDAR
VERSION:2.0
X-WR-TIMEZONE:Europe/Paris
PRODID:-//Audencia//NONSGML v1.0//EN
CALSCALE:GREGORIAN
BEGIN:VEVENT
SUMMARY:Course solidaire BDS
DTSTART:20231104T100000
DTEND:20231104T150000
UID:1663
DTSTAMP:20260425T224806
LOCATION:Vallée du Cens, Avenue de la Côte d'Or, Nantes, France
DESCRIPTION:Le BDS Audencia organise cette année une course solidaire qui aura lieu le samedi 4 novembre.\n \nCette course se fera sous la forme d’un cross-country (parcours vallonné) dans la vallée du Cens, près du Petit Port, avec 3 formats proposés : \n \n- une course de 3km (1 boucle) accessible à tous, départ prévu à 11h30.\n \n- une course de 9km (3 boucles) avec un départ à 10h.\n \n- un relais par équipes de 3 (1 boucle par relayeur) avec un départ à 10h également.\n \nInscriptions : 7€ repas inclus (lien à venir très prochainement sur ABS) \n \nTout l’argent récolté sera reversé à l’association ARSLA qui lutte contre la maladie de Charcot.\n \nA cette occasion, retrouvez nous au club house de l’hippodrome du Petit Port pour l’accueil d’avant course et pour un moment convivial ensuite. Plusieurs associations étudiantes seront présentes autour de l’événement (barbecue, boissons et musique).\n\n
BEGIN:VALARM
ACTION:DISPLAY
TRIGGER:-PT60M
DESCRIPTION:Course solidaire BDS
END:VALARM
END:VEVENT
END:VCALENDAR