BEGIN:VCALENDAR
VERSION:2.0
X-WR-TIMEZONE:Europe/Paris
PRODID:-//Audencia//NONSGML v1.0//EN
CALSCALE:GREGORIAN
BEGIN:VEVENT
SUMMARY:Webinar: Taking the Plunge: mid-career entrepreneurship with Chris Coleridge
DTSTART:20231212T130000
DTEND:20231212T140000
UID:1662
DTSTAMP:20260425T211354
LOCATION:
DESCRIPTION:DATE: Tuesday 12 December 2023\nTIME: 13:00 to 14:00 Paris time\n\nLots of people are attracted by the idea of starting or joining a new business in mid-career. However, many are put off by the perceived risk, difficulty and uncertainty of entrepreneurship.\n\nIn this webinar, with Chris Coleridge (entrepreneurship professor at Cambridge Judge Business School and co-founder of Carbon13 venture accelerator), we look at entrepreneurship as a career option and consider three questions new entrepreneurs should try and answer about themselves:\n\n1.    Do you understand your strengths and weaknesses?\nAs an early-stage entrepreneur you won’t have an employer brand behind you.  A laser-sharp focus on the skills you have (and lack) is vital.\n\n2.    Can you learn and unlearn?\nNew entrepreneurs learn from day one. But this is the worst time to learn new skills from scratch.  You need partners who can cover everything you are not (really) good at yourself.  And you will need to unlearn some habits – like the desire to be right all the time. \n\n3.    Can you build a network around you?\nAs well as new products/services, entrepreneurs are “stitching together” a new network.  The ability to create a hub for others to plug into is what distinguishes innovative businesses.  We will discuss how to design and build an ecosystem around your venture.\n\nWe will also examine critical practical issues like:\n\n\n	What you should expect (in terms of time, workload, stress and financial risk)\n	How to create experiments to test an idea (and a future for you)\n	What research shows about the likelihood of success\n	How to decide when to start and when to stop\n\n \n\nREGISTRATION\nWe have 200 free tickets for Audencia's alumni and students\n(use code "AUD-student" if the ticket does not show)\n \n\n\n\nAbout the speaker\nChris Coleridge is Management Practice Associate Professor at Cambridge Judge Business School (teaching entrepreneurship and strategic management) and CEO of Carbon13, the venture builder for the climate emergency.  Chris was an entrepreneur in the 1990s, became an academic in entrepreneurship and strategy after exiting his business, and recently returned to the “practical” side of entrepreneurship by founding Carbon13.\n\n\nAUDENCIA's WEBINAR LIBRARY\nUnlimited access for Audencia students and alumni\n \nWe are delighted to offer all Audencia students and alumni access to a library of careers webinars featuring world-class management thinkers like Steve Dalton, Dorie Clark and Daniel Porot.\n\nAll Audencia alumni and students now have unlimited access to the portal which includes:\n\n	Advice on, job-hunting and interviewing, international and portfolio careers and how to be a better boss\n	Videos optimised for mobiles and tablets\n	Unlimited – free online access to all Audencia students and alumni\n\n\nRegister for your individual account here
BEGIN:VALARM
ACTION:DISPLAY
TRIGGER:-PT60M
DESCRIPTION:Webinar: Taking the Plunge: mid-career entrepreneurship with Chris Coleridge
END:VALARM
END:VEVENT
END:VCALENDAR