BEGIN:VCALENDAR
VERSION:2.0
X-WR-TIMEZONE:Europe/Paris
PRODID:-//Audencia//NONSGML v1.0//EN
CALSCALE:GREGORIAN
BEGIN:VEVENT
SUMMARY:Company Visit & Lunch Talk in Shenzhen, China
DTSTART:20231104T030000
DTEND:20231104T070000
UID:1660
DTSTAMP:20260425T210120
LOCATION:8, 4F, 408 Tianlong Mansion, No. 33 Xiandong Road, Nanshan District, Shenzhen, Guangdong, China
DESCRIPTION:Patricia MUNOZ KING, Corporate Relations Manager at Audencia, is visiting China at the beginning of November and will be staying in Shenzhen for a couple of days. We would like to propose a gathering on Saturday, 4 November during which you can chat with Patricia.\n\nOn the pogramme: \n\n	10:00-12:00 Company visit at Common Technology, hosted by Derek LI, one of our alumni ambassadors in Shenzhen \n	12:00-14:00 Lunch & free exchange\n\n \n\n\n \n\nPlaces are limited, registrations are mandatory
BEGIN:VALARM
ACTION:DISPLAY
TRIGGER:-PT60M
DESCRIPTION:Company Visit & Lunch Talk in Shenzhen, China
END:VALARM
END:VEVENT
END:VCALENDAR