BEGIN:VCALENDAR
VERSION:2.0
X-WR-TIMEZONE:Europe/Paris
PRODID:-//Audencia//NONSGML v1.0//EN
CALSCALE:GREGORIAN
BEGIN:VEVENT
SUMMARY:Join the international recruitment panel for the Grande Ecole Programme in SHANGHAI, China
DTSTART:20180203T090000
DTEND:20180203T170000
UID:166
DTSTAMP:20260425T223737
LOCATION:Espace Campus France de Shanghai 4F, Shixing Building 155 Wuyilu, Changning District Shanghai 200050
DESCRIPTION:Do you want to help find the next generation of successful students?\n\nIf you graduated from Audencia (all programmes) 3 or more years ago, join panel members from Audencia, emlyon, ESCP Europe, HEC and SKEMA in Shanghai on 3rd February at:\n\n \nEspace Campus France de Shanghai\n4F, Shixing Building\n155 Wuyilu, Changning District\nShanghai 200050\n\n\nTogether you will:\n\n	Grow your network\n	Share your experience of studying in France with aspiring students\n	Participate in the promotion of your business school abroad\n	Identify the future talent you might you want to recruit\n\n \nAnd on the day of the interviews, you will:\n\n	Meet at a pre-arranged location in your city or in your office if you prefer\n	Meet for 30 minutes with 4 to 5 different candidates, talk about their project, your experiences with their future school, and fill in an evaluation grid.\n	Have fun!  \n\n \n\n \nFor more information or to register\nSend an email to: sai@cci-paris-idf.fr
BEGIN:VALARM
ACTION:DISPLAY
TRIGGER:-PT60M
DESCRIPTION:Join the international recruitment panel for the Grande Ecole Programme in SHANGHAI, China
END:VALARM
END:VEVENT
END:VCALENDAR