BEGIN:VCALENDAR
VERSION:2.0
X-WR-TIMEZONE:Europe/Paris
PRODID:-//Audencia//NONSGML v1.0//EN
CALSCALE:GREGORIAN
BEGIN:VEVENT
SUMMARY:Afterwork with Join a School in France
DTSTART:20231121T113000
DTEND:20231121T140000
UID:1659
DTSTAMP:20260425T210123
LOCATION:IM SHANGHAI, Changning District, Shanghai, China
DESCRIPTION:\n\n欢迎Audencia校友报名参加Join a School in France的afterwork活动，和JASIF的国际项目经理Leonor QUARTIN进行直接交流对话。\n\n活动面向五校联盟中的五所法国商学院开放（HEC, ESCP, emLyon, SKEMA, Audencia），是认识更多其他顶级商学院的校友的绝佳机会。
BEGIN:VALARM
ACTION:DISPLAY
TRIGGER:-PT60M
DESCRIPTION:Afterwork with Join a School in France
END:VALARM
END:VEVENT
END:VCALENDAR