BEGIN:VCALENDAR
VERSION:2.0
X-WR-TIMEZONE:Europe/Paris
PRODID:-//Audencia//NONSGML v1.0//EN
CALSCALE:GREGORIAN
BEGIN:VEVENT
SUMMARY:Dinner in Tokyo, Japan
DTSTART:20231019T120000
DTEND:20231019T150000
UID:1657
DTSTAMP:20260425T210211
LOCATION:ADRIFT by David Myers, 二重橋スクエア1階，東京都千代田区丸の内３-2-3
DESCRIPTION:\n\nJoin Audencia Alumni in Tokyo for a dinner on Thursday, 19 October! 
BEGIN:VALARM
ACTION:DISPLAY
TRIGGER:-PT60M
DESCRIPTION:Dinner in Tokyo, Japan
END:VALARM
END:VEVENT
END:VCALENDAR