BEGIN:VCALENDAR
VERSION:2.0
X-WR-TIMEZONE:Europe/Paris
PRODID:-//Audencia//NONSGML v1.0//EN
CALSCALE:GREGORIAN
BEGIN:VEVENT
SUMMARY:Chapter Singapore: Climate Fresque workshop
DTSTART:20231024T133000
DTEND:20231024T163000
UID:1655
DTSTAMP:20260425T210146
LOCATION:Google Singapore 70 Pasir Panjang Rd,  #03-71 Mapletree Business City II,  Singapour 117371
DESCRIPTION:\nChapter Singapore's ambassador Audrey Gaonach (GE 2002) is conducting a Climate Fresque workshop on Tuesday 24 October from 6.30pm to 9.30pm in the Google Singapore offices.\n \nTo register ?? https://tinyurl.com/2euxe7pw\n\n\n\n\n 
BEGIN:VALARM
ACTION:DISPLAY
TRIGGER:-PT60M
DESCRIPTION:Chapter Singapore: Climate Fresque workshop
END:VALARM
END:VEVENT
END:VCALENDAR