BEGIN:VCALENDAR
VERSION:2.0
X-WR-TIMEZONE:Europe/Paris
PRODID:-//Audencia//NONSGML v1.0//EN
CALSCALE:GREGORIAN
BEGIN:VEVENT
SUMMARY:Club Business Year-End Networking
DTSTART:20231212T193000
DTEND:20231212T220000
UID:1654
DTSTAMP:20260425T210325
LOCATION:Audencia Paris, 4 Passage Colisée, Saint-Ouen, 93400
DESCRIPTION:\n\n\nChers Alumni Audencia, chers ami(e)s,\n\nEt oui, nous y sommes ! L'année touche déjà à sa fin !\n\nL'Audencia Business Club vous invite à clôturer l'année en beauté, lors d'une soirée mémorable, retrouvons nous tous ensemble sur notre nouveau campus Parisien pour faire le bilan de cette année 2023, et préparer l'année  2024 !\n\nNous avons également le plaisir d'avoir Nicolas CANO (GE 02), Directeur Business Development chez Tmall Fashion & Luxury (Alibaba Group) depuis 2018, pour partager ses points de vue sur les affaires internationales, le luxe et l'e-commerce. \n\nNicolas CANO a plus de 15 ans d'expérience internationale dans le secteur du luxe. Il a débuté sa carrière chez L'Oréal et LVMH (Dior Homme) en 2005, puis Christian Lacroix en tant que responsable du développement commercial pour la région EMEA. Entre 2010 et 2018, il a développé le business et le network pour Chanel (Chalhoub Group) et Symphony Group (Alabbar Group's retail branch) à Dubaï et dans la région du Moyen-Orient.\n \n\nAu programme : \n\n\n19h30 Arrivée & boisson d’accueil \n20h00 Mot d’accueil \n20h10 KeyNote : "Demain est aujourd’hui ! Transformer le retail d’aujourd’hui avec esprit entrepreneurial"\n20h50 Q&A\n21h00 Networking dinatoire\n22h00 Fin de l'évènement\n\nRencontres, réseautage, partage, négoce et convivialité comme toujours !\n\n\nNous vous attendons nombreux …\n\nMarie & Maodi\nAmbassadrices du club\n
BEGIN:VALARM
ACTION:DISPLAY
TRIGGER:-PT60M
DESCRIPTION:Club Business Year-End Networking
END:VALARM
END:VEVENT
END:VCALENDAR