BEGIN:VCALENDAR
VERSION:2.0
X-WR-TIMEZONE:Europe/Paris
PRODID:-//Audencia//NONSGML v1.0//EN
CALSCALE:GREGORIAN
BEGIN:VEVENT
SUMMARY:Restitution de l'étude : Vers de nouvelles formes d’habiter ? Comprendre les aspirations des Français à l’égard de leur logement et de leur lieu de vie.
DTSTART:20231013T093000
DTEND:20231013T110000
UID:1653
DTSTAMP:20260425T210023
LOCATION:So Pop , 6 Rue Fructidor, Saint-Ouen-sur-Seine, France
DESCRIPTION:\nRapport au logement et au cadre de vie, perception de la densité, lieu de vie idéal…\n\nVers de nouvelles formes d’habiter ? Comprendre les aspirations des Français à l’égard de leur logement et de leur lieu de vie.\n\nNous vous invitons le 13 octobre 2023 au So Pop à découvrir en avant-première la première édition de l’enquête réalisée par l’Obsoco pour la Chaire REALITES X Audencia – Faire vivre l’intelligence des territoires.\n\nEntre aspirations à plus d’intimité et au partage, entre désir d’espaces verts et besoin de services de proximité, entre formes d’habitat alternatives ou plus traditionnelles, cette grande enquête, menée auprès de 2 000 Français, analyse en profondeur leurs aspirations en matière de logement et de cadre de vie ainsi que leur rapport à la densité.\n\nElle précise les différences de perceptions et d’attentes entre habitants des grandes métropoles et résidents de villes moyennes.\n\n?️ Le 13 octobre 2023\n? de 10h à 11h\n? au So Pop : 6 Rue Fructidor, 93400 Saint-Ouen-sur-Seine.\n \nMerci de bien vouloir confirmer votre présence grâce au formulaire d’inscription suivant : \nJE M'INSCRIS
BEGIN:VALARM
ACTION:DISPLAY
TRIGGER:-PT60M
DESCRIPTION:Restitution de l'étude : Vers de nouvelles formes d’habiter ? Comprendre les aspirations des Français à l’égard de leur logement et de leur lieu de vie.
END:VALARM
END:VEVENT
END:VCALENDAR