BEGIN:VCALENDAR
VERSION:2.0
X-WR-TIMEZONE:Europe/Paris
PRODID:-//Audencia//NONSGML v1.0//EN
CALSCALE:GREGORIAN
BEGIN:VEVENT
SUMMARY:Forum de recrutement Audencia - 17 et 18 octobre 2023
DTSTART:20231017T100000
DTEND:20231018T180000
UID:1650
DTSTAMP:20260425T210045
LOCATION:Gymnase - Atlantic Campus (8 Route de la Jonelière)
DESCRIPTION:Evènement réservé aux diplômés des promotions 2022 - 2023\n\n\n\nVous êtes actuellement à la recherche de votre 1er emploi, en France ou à l'international ? \nParticipez au forum de recrutement qui se déroulera les 17 et 18 octobre 2023 au gymnase d'Atlantic Campus.\n  \nPlus de 70 entreprises  seront présentes, parmi lesquelles Carrefour, Société Générale, Mazars, Kellogg's, Lactalis, BNP Paribas, EY, Rakuten, Mondelez, P&G, KPMG, Maisons du Monde, Accenture, Air France, Uniqlo... !\n\n?Une brochure digitale regroupant les présentations des entreprises vous sera transmise quelques jours avant l'événement.\n \n\n	\n		\n			\n			Nouveauté 2023\n			\n		\n	\n\n\n\n	\n		\n			\n			Afin de mieux répondre à vos attentes, le forum se déroulera en 2 temps forts :\n			-Mardi 17 octobre (10h-17h) : un forum de recrutement généraliste avec de nombreux secteurs d'activité représentés\n			-Mercredi 18 octobre (14h-18h): un forum de recrutement dédié aux métiers de l'audit et du conseil\n		\n	\n\n\n\n \nPlus d'infos >\n\nNous restons à votre disposition pour tous renseignements complémentaires.\n\nCONTACT\nCareer & Corporate Relations Center\nAudencia Pôle Events - Direction de la Communication et des Relations institutionnelles\nforums@audencia.com
BEGIN:VALARM
ACTION:DISPLAY
TRIGGER:-PT60M
DESCRIPTION:Forum de recrutement Audencia - 17 et 18 octobre 2023
END:VALARM
END:VEVENT
END:VCALENDAR