BEGIN:VCALENDAR
VERSION:2.0
X-WR-TIMEZONE:Europe/Paris
PRODID:-//Audencia//NONSGML v1.0//EN
CALSCALE:GREGORIAN
BEGIN:VEVENT
SUMMARY:Alumni dinner, Ho Chi Minh City, Vietnam
DTSTART:20180124T180000
DTEND:20180124T210000
UID:165
DTSTAMP:20260425T205953
LOCATION:Le Belgo Saigon 159A Nguyen Van Thu, Da Kao Ward,  District 1, Ho Chi Minh
DESCRIPTION:Dear Audencia Friends,\n \nThe group of Grandes Ecoles alumni in HCMC is organising a quarterly dinner for all French Grandes Ecoles Alumni. The next one is on 24th January and we are cordially invited.\n \nPlease fill in the form should you want to join. It will be a good opportunity to mingle and practise French!\nMerci de me confirmer ta participation en inscrivant les noms sur le lien suivant.\n\n\nWHEN?\nWednesday 24th January 2018 from 6.00pm\n\n	6.00-8.00pm: Aperitif (VND150,000)\n	8.00pm+: Dinner (VND300,000) not including wines\n\n\nWHERE?\nLe Belgo Saigon\n159A Nguyen Van Thu,\nDa Kao Ward,\nDistrict 1, Ho Chi Minh\n\n \nI am unfortunately out of VN that day but still encourage you to join. I will also keep you posted on the upcoming ones.\n\nCheers,\nLaurent\n 
BEGIN:VALARM
ACTION:DISPLAY
TRIGGER:-PT60M
DESCRIPTION:Alumni dinner, Ho Chi Minh City, Vietnam
END:VALARM
END:VEVENT
END:VCALENDAR