BEGIN:VCALENDAR
VERSION:2.0
X-WR-TIMEZONE:Europe/Paris
PRODID:-//Audencia//NONSGML v1.0//EN
CALSCALE:GREGORIAN
BEGIN:VEVENT
SUMMARY:MS MOS : Rencontre entre promos
DTSTART:20231011T190000
DTEND:20231011T203000
UID:1649
DTSTAMP:20260425T210150
LOCATION:SoPop 4 Passage Colisée 93400 Saint Ouen sur Seine
DESCRIPTION: \n\n>> Evénement réservé uniquement aux anciens du MS MOS <<\n\nVenez rencontrer la nouvelle promo (2023-2024) du MS MOS le mercredi 11 octobre de 19h à 20h30 et à cette même occasion découvrez le nouveau campus à Saint-Ouen !\n\nAvis aux anciens du MOS : comme d'habitude, ça sera BYOD (Bring your own drink ?)\n\n\nPlaces limitées + Inscriptions obligatoires\n\n\n\nQuestions ? : nushad.merchant@audencia.com\n\n\n 
BEGIN:VALARM
ACTION:DISPLAY
TRIGGER:-PT60M
DESCRIPTION:MS MOS : Rencontre entre promos
END:VALARM
END:VEVENT
END:VCALENDAR