BEGIN:VCALENDAR
VERSION:2.0
X-WR-TIMEZONE:Europe/Paris
PRODID:-//Audencia//NONSGML v1.0//EN
CALSCALE:GREGORIAN
BEGIN:VEVENT
SUMMARY:Crash Test Startup 1ère édition ?
DTSTART:20231003T180000
DTEND:20231003T200000
UID:1648
DTSTAMP:20260425T210049
LOCATION:Lien Zoom envoyé après inscription
DESCRIPTION:\n \n\nLe Crash Test Startup, porté par l’incubateur Centrale-Audencia-Ensa offre l’opportunité aux diplômés d’Audencia d'avoir une première occasion de parler de leur projet entrepreneurial.\n \n\nQue tu sois motivé à te lancer ou que tu aies déjà franchi le pas, l’objectif est simple : te permettre de bénéficier de retours et de conseils constructifs.\n \n\nD’anciens diplômés, aujourd’hui entrepreneurs aguerris, sont là pour te challenger, et t'aider à prendre du recul et à te poser les bonnes questions. Et tout cela dans une ambiance bienveillante et d’entraide. ?\n \n\n?️ Déroulement de l’événement\n \n\nL’Incubateur te donne rendez-vous en visio le mardi 3 octobre de 18h à 20h. Pendant ces 2 heures, tu pourras effectuer jusqu’à 3 sessions individuelles de 25 minutes. Pendant ces sessions, tu auras l’opportunité de trouver des réponses aux questions qui te trottent sûrement dans la tête :\n \n\n➡️ Comment et par où commencer ?\n\n➡️ Comment gagner de l’argent avec ton projet ?\n\n➡️ Qui pourrait être tes clients ?\n\n➡️ Comment te différencier de la concurrence ?\n\n➡️ Comment développer une première version de ton produit/solution sans savoir coder ?\n\n➡️ Etc.\n \n\nℹ️ Informations importantes\n \n\n? Chaque session dure 25 minutes (5 minutes de présentation et 20 minutes d’échanges). \n\n⚡️ Tu peux sélectionner un, deux ou trois créneaux lors de ton inscription.\n\n? Attention, le nombre de places est limité (Inscription obligatoire).\n \n\nPour voir le déroulement de l’événement dans ses moindres détails, c’est par ici : \n \n\nCrash Test Startup - 3 octobre 2023\n \n\n?‍♀️ À qui s’adresse le Crash Test Startup ?\n\n? À celles et ceux qui ont une idée en tête d’entreprise, qui souhaitent la tester et qui cherchent des conseils avant de se lancer.\n \n\n? Pour les néo-entrepreneurs qui viennent de commencer leur aventure entrepreneuriale, mais qui ne sont pas encore structurés, et qui sont encore au stade de MVP.\n \n\n✅ Prêt à tester ton idée ? Inscris-toi dès maintenant !\n \n\nJe participe au Crash Test Startup
BEGIN:VALARM
ACTION:DISPLAY
TRIGGER:-PT60M
DESCRIPTION:Crash Test Startup 1ère édition ?
END:VALARM
END:VEVENT
END:VCALENDAR