BEGIN:VCALENDAR
VERSION:2.0
X-WR-TIMEZONE:Europe/Paris
PRODID:-//Audencia//NONSGML v1.0//EN
CALSCALE:GREGORIAN
BEGIN:VEVENT
SUMMARY:MS APTE : Rencontre entre promos
DTSTART:20231005T170000
DTEND:20231005T190000
UID:1647
DTSTAMP:20260425T210051
LOCATION:Le LAB 23 Bd de Chantenay 44100 Nantes
DESCRIPTION:\nEvénement réservé uniquement aux anciens du MS APTE\n\nJustine et Emmanuel, ambassadeurs de la promo 2020, donne rendez-vous aux diplômés du MS APTE pour rencontrer la nouvelle promo du programme au LAB le jeudi 5 octobre à 17h.\n\n\n\nQuestions ? : nushad.merchant@audencia.com
BEGIN:VALARM
ACTION:DISPLAY
TRIGGER:-PT60M
DESCRIPTION:MS APTE : Rencontre entre promos
END:VALARM
END:VEVENT
END:VCALENDAR