BEGIN:VCALENDAR
VERSION:2.0
X-WR-TIMEZONE:Europe/Paris
PRODID:-//Audencia//NONSGML v1.0//EN
CALSCALE:GREGORIAN
BEGIN:VEVENT
SUMMARY:Club Culture & Management : La culture est-elle trop chère ?
DTSTART:20231011T190000
DTEND:20231011T210000
UID:1646
DTSTAMP:20260425T210049
LOCATION:Beaux Arts & Cie 9 Bd de la Madeleine 75001 Paris
DESCRIPTION:Le prix de la culture : la culture est-elle trop chère ?\n \n\nDans un contexte général économique d’inflation, la question du prix pour accéder aux offres et activités culturelles se pose avec une acuité nouvelle. En effet, les citoyens sont amenés à faire des arbitrages dans leurs consommations en raison de l’augmentation générale des prix.\n\nLe spectre des prix des offres culturelles est très large selon le type de secteur / discipline et / ou selon le modèle économique des opérateurs culturels (publics ou privés).\n\nLe prix semble constituer l’un (mais pas l’unique) des freins à l’accès aux offres culturelles et à la fréquentation d’équipements culturels.\n\nDans ce contexte, les acteurs culturels font face à un double enjeu que nous vous proposons d’aborder lors de ce débat : comment concilier l’accessibilité au plus grand nombre des offres culturelles tout en assurant la pérennité des modèles économiques des organisations culturelles ?\n\n \n\nIntervenants\n\n\n	\n	Malika Séguineau : PRODISS/Directrice Générale\n	\n	\n	Karim Courty : Établissement public du parc et de la Grande Halle de la Villette/Chef du service des relations avec les publics\n	\n\n\n \n\nModérateur\n\n\n	\n	Elias Lecocq, Culture & Management/Délégué Audencia\n	\n\n\nRéservez votre place dès maintenant !\n\n\nModalités d'accueil en présentiel :\n\n- Le débat aura lieu au siège de Beaux Arts & Cie.\n\n- Il commencera à 19h, l'accueil se faisant à partir de 18h30.\n\n- Si vous bénéficiez d'un tarif spécial (tarif chômeur ou tarif étudiant à 15 €), vous devrez nous présenter un justificatif de moins de 3 mois.\n \n\nAu plaisir de vous retrouver,\n\nL'équipe du Club Culture & Management\n \n\n\n\n 
BEGIN:VALARM
ACTION:DISPLAY
TRIGGER:-PT60M
DESCRIPTION:Club Culture & Management : La culture est-elle trop chère ?
END:VALARM
END:VEVENT
END:VCALENDAR