BEGIN:VCALENDAR
VERSION:2.0
X-WR-TIMEZONE:Europe/Paris
PRODID:-//Audencia//NONSGML v1.0//EN
CALSCALE:GREGORIAN
BEGIN:VEVENT
SUMMARY:Club Activités Culturelles - Stand-up comedy - Olivier Giraud's "How to become a Parisian in one hour?"
DTSTART:20231114T200000
DTEND:20231114T211500
UID:1645
DTSTAMP:20260425T210007
LOCATION:Théâtre des Nouveautés 24 boulevard Poissonnière Paris 75009
DESCRIPTION:You love Paris but you think that Parisians are...different? You are completely right!\nDo you need some help to understand Parisians?\n \n\nAudencia Alumni's Cultural Activities Club invites you to an evening of fun & banter \n\n"How to become a Parisian in one hour?"\non Tuesday 14 November at 8pm at the Théâtre des Nouveautés​ (Paris 9).\n\n\nOlivier Giraud will teach you everything you need to know in order to enjoy Paris! This comedy is presented in the form of lessons, teaching you how to behave like a real Parisian in a taxi, shop, metro, restaurant and even in future relationships... \n\nEnjoy a night out in the heart of Paris surrounded by Parisians and a multicultural audience ! This is the ultimate guide to enjoy Paris! Enjoyed by more than 800 000 spectators, this show is much more than a stand-up comedy!\n\n \n\nSeating is limited. So register soon!\n\n\n\nQuestion?: nushad.merchant@audencia.com\n\n\n 
BEGIN:VALARM
ACTION:DISPLAY
TRIGGER:-PT60M
DESCRIPTION:Club Activités Culturelles - Stand-up comedy - Olivier Giraud's "How to become a Parisian in one hour?"
END:VALARM
END:VEVENT
END:VCALENDAR