BEGIN:VCALENDAR
VERSION:2.0
X-WR-TIMEZONE:Europe/Paris
PRODID:-//Audencia//NONSGML v1.0//EN
CALSCALE:GREGORIAN
BEGIN:VEVENT
SUMMARY:Chapter Madrid: Handover ceremony & Afterwork
DTSTART:20231004T191500
DTEND:20231004T213000
UID:1643
DTSTAMP:20260425T210117
LOCATION:CaféOlé! Clubworking, Calle de Fernández de los Ríos, 3,  28015 Madrid
DESCRIPTION:\nChapter Madrid will be hosting its first afterwork of the season on Wednesday 4 October 7.15pm onwards at CaféOlé! Clubworking, Calle de Fernández de los Ríos, 3, 28015 Madrid\n\nWe will be seizing this opportunity to host a Handover Ceremony as we will bid farewell to François Blin who started this community and has been an exemplary ambassador since more than 30 years.\n \n\nRegistrations are compulsory.\n\n\n\nQuestion? : nushad.merchant@audencia.com\n\n\n\n 
BEGIN:VALARM
ACTION:DISPLAY
TRIGGER:-PT60M
DESCRIPTION:Chapter Madrid: Handover ceremony & Afterwork
END:VALARM
END:VEVENT
END:VCALENDAR