BEGIN:VCALENDAR
VERSION:2.0
X-WR-TIMEZONE:Europe/Paris
PRODID:-//Audencia//NONSGML v1.0//EN
CALSCALE:GREGORIAN
BEGIN:VEVENT
SUMMARY:Conférence Isegoria : Claudie Haignéré - sur la conquête spatiale, le rôle d'une astronaute
DTSTART:20231109T183000
DTEND:20231109T203000
UID:1642
DTSTAMP:20260425T210431
LOCATION:Audencia, Route de la Jonelière, Nantes, France
DESCRIPTION:Plus d'informations à venir
BEGIN:VALARM
ACTION:DISPLAY
TRIGGER:-PT60M
DESCRIPTION:Conférence Isegoria : Claudie Haignéré - sur la conquête spatiale, le rôle d'une astronaute
END:VALARM
END:VEVENT
END:VCALENDAR