BEGIN:VCALENDAR
VERSION:2.0
X-WR-TIMEZONE:Europe/Paris
PRODID:-//Audencia//NONSGML v1.0//EN
CALSCALE:GREGORIAN
BEGIN:VEVENT
SUMMARY:Conférence Isegoria : Marc-Lesage Moretti - de la finance au gaming, une reconversion atypique
DTSTART:20231017T183000
DTEND:20231017T203000
UID:1641
DTSTAMP:20260425T210002
LOCATION:Amphi Edit de Nantes
DESCRIPTION:\n	\n		\n			\n			\n				\n					\n						Les étudiantes et étudiants de l’association Isegoria ont le plaisir vous convier à leur prochaine conférence animée par Marc Lesage-Moretti, ancien vice-président chez Goldman Sachs devenu streamer sur Twitch. En revenant sur son parcours, ils parleront de carrière professionnelle autour de la thématique : \n						 De Goldman Sachs à Jokariz : \n						une carrière atypique entre finance et e-sport.\n						 \n					\n				\n			\n			\n		\n	\n\n \n\n\n	\n		\n			\n			\n				\n					\n						\n						\n							\n								\n									\n									\n										\n											\n												\n												\n													\n														\n															\n														\n													\n												\n												\n											\n										\n									\n									\n									\n									\n										\n											\n												\n												\n													\n														\n															\n															MARC LESAGE-MORETTI\n															Célèbre dans l'univers de la finance, Marc Lesage-Moretti a travaillé sept ans chez Goldman Sachs en tant que Cross Asset Sales. \n															Pendant ses études, il se distingue par son excellence académique en intégrant le programme Grande Ecole de l'ESCP, où son penchant pour les mathématiques et la finance de marché se fait très vite remarquer.\n															 \n															Son stage chez BNP Paribas en année de césure est stratégique. Il brise les normes établies en devenant le premier stagiaire issu d’école de commerce à intégrer un poste de structureur - généralement réservé aux ingénieurs. Cette expérience professionnelle lui ouvre les portes de Goldman Sachs, d’abord en stage puis en poste permanent d’Associate jusqu’au poste de Vice-President.\n															Sa persévérance et son habileté en mathématiques lui permettent de surmonter les obstacles et de se démarquer dans un environnement hautement compétitif et sélectif.\n															 \n															Rattrapé par un désir de changement et la passion de l'e-sport, Marc Lesage-Moretti opère un changement audacieux en se réinventant dans la création de contenu sur Twitch pour League of Legends. \n															Dans ce nouveau rôle, il se fait rebaptiser Jokariz et conjugue à présent expertise financière, amour des jeux vidéos et créativité pour produire du contenu innovant et captivant.\n															 \n															Jokariz nous honore par sa présence et son histoire inspirante. Son parcours démontre comment détermination, innovation et passion peuvent redéfinir une trajectoire professionnelle et créer des synergies inattendues entre des mondes aussi disparates que la finance et l'e-sport. \n														\n													\n												\n												\n											\n										\n									\n									\n								\n							\n						\n						\n					\n				\n			\n			\n		\n	\n\n \n\n\n	\n		\n			\n			\n				\n					\n						\n						\n							\n								\n									\n									\n										\n											\n												\n												\n													\n														\n															Évènement gratuit \n															Contact : events@audencia.com\n														\n													\n												\n												\n												\n												\n													\n														\n															\n															\n																\n																	\n																		\n																		\n																			\n																				\n																					\n																					\n																						\n																							\n																								\n																								S'INSCRIRE\n																								\n																							\n																						\n																					\n\n																					 \n																					\n																				\n																			\n																		\n																		\n																	\n																\n															\n															\n														\n													\n												\n												\n											\n										\n									\n									\n								\n							\n						\n						\n					\n				\n			\n			\n		\n	\n\n \n\n\n	\n		\n			Vous êtes tous cordialement invités à assister à cette conférence-débat, \n			n’hésitez pas à en faire profiter votre entourage !\n		\n	\n
BEGIN:VALARM
ACTION:DISPLAY
TRIGGER:-PT60M
DESCRIPTION:Conférence Isegoria : Marc-Lesage Moretti - de la finance au gaming, une reconversion atypique
END:VALARM
END:VEVENT
END:VCALENDAR