BEGIN:VCALENDAR
VERSION:2.0
X-WR-TIMEZONE:Europe/Paris
PRODID:-//Audencia//NONSGML v1.0//EN
CALSCALE:GREGORIAN
BEGIN:VEVENT
SUMMARY:Conférence Isegoria «  Le commandement au sein des armées, un rôle essentiel face à la montée incessante de nouvelles menaces.» avec Laurent Michon
DTSTART:20230928T183000
DTEND:20230928T203000
UID:1640
DTSTAMP:20260425T210003
LOCATION:Amphi Edit de Nantes  Atlantic Campus  Audencia, Route de la Jonelière, Nantes, France
DESCRIPTION:\n	\n		\n			\n			\n				\n					\n						Les étudiants de l’association Isegoria ont le plaisir vous convier à leur prochaine conférence animée par le général de corps d'armée Laurent Michon, officier général de la zone de défense et de sécurité Ouest et commandant de la zone terre Nord-Ouest. Ils aborderont, en sa présence, l'avenir géopolitique du monde à travers la thématique : \n						 Le commandement au sein des armées, un rôle essentiel face à la montée incessante de nouvelles menaces.\n					\n				\n			\n			\n		\n	\n\n \n\n\n	\n		\n			\n			\n				\n					\n						\n						\n							\n								\n									\n									\n										\n											\n												\n												\n													\n														\n															\n														\n													\n												\n												\n											\n										\n									\n									\n									\n									\n										\n											\n												\n												\n													\n														\n															\n															LAURENT MICHON\n															Le général Laurent Michon commence sa formation par l’école militaire de Saint Cyr en 1985. Il poursuit une carrière militaire exceptionnelle, gravissant tous les échelons que ce soit dans l’armée de terre où il fut l’État-Major opérationnel Terre ou dans les grandes institutions de défense et de sécurité nationale. \n															\n															Il a été au cœur des grandes opérations qui ont marqué les dernières décennies en Afrique (au Tchad, au Rwanda…) ou en Europe (en ex-Yougoslavie). En tant que leader de commandement au sein de grandes institutions internationales comme l’ONU, l’Otan et l’Union Européenne, il a su diriger des grands effectifs.\n															Sa nomination au commandement de la force Barkhane en juillet 2021 pendant près d’un an a parachevé un parcours riche en responsabilités.\n															\n															Aujourd’hui, le général Laurent Michon nous fait l’honneur de sa présence. A travers son parcours de commandement et gestion du leadership, il nous apportera son expertise sur la place de la France au sein de l’échiquier mondial.   Il nous donnera sa vision de l’avenir militaire face à de possibles recrudescences des conflits armés (nouveaux espaces de souveraineté, programmation militaire, profil du militaire de demain…).\n														\n													\n												\n												\n											\n										\n									\n									\n								\n							\n						\n						\n					\n				\n			\n			\n		\n	\n\n \n\n\n	\n		\n			\n			\n				\n					\n						\n						\n							\n								\n									\n									\n										\n											\n												\n												\n													\n														\n															Évènement gratuit \n															Contact : events@audencia.com\n														\n													\n												\n												\n												\n												\n													\n														\n															\n															\n																\n																	\n																		\n																		\n																			\n																				\n																					\n																					\n																						\n																							\n																								\n																								S'INSCRIRE\n																								\n																							\n																						\n																					\n\n																					 \n																					\n																				\n																			\n																		\n																		\n																	\n																\n															\n															\n														\n													\n												\n												\n											\n										\n									\n									\n								\n							\n						\n						\n					\n				\n			\n			\n		\n	\n\n \n\n\n	\n		\n			Vous êtes tous cordialement invités à assister à cette conférence-débat, \n			n’hésitez pas à en faire profiter votre entourage !\n		\n	\n
BEGIN:VALARM
ACTION:DISPLAY
TRIGGER:-PT60M
DESCRIPTION:Conférence Isegoria «  Le commandement au sein des armées, un rôle essentiel face à la montée incessante de nouvelles menaces.» avec Laurent Michon
END:VALARM
END:VEVENT
END:VCALENDAR