BEGIN:VCALENDAR
VERSION:2.0
X-WR-TIMEZONE:Europe/Paris
PRODID:-//Audencia//NONSGML v1.0//EN
CALSCALE:GREGORIAN
BEGIN:VEVENT
SUMMARY:Petit-déjeuner atlanpolitain: "International: les coups gagnants, les pièges à éviter"
DTSTART:20180213T074500
DTEND:20180213T100000
UID:164
DTSTAMP:20260425T205952
LOCATION:Cité des Congrès Nantes
DESCRIPTION:THEME\n\nOsez aller à l’international, là où se trouvent les marchés en plus forte croissance ! Encore faut-il saisir des opportunités sans être trop naïf.\nQuels sont les pièges à éviter, et surtout les trucs à savoir pour gagner du temps et sécuriser votre développement ?\n\nDes entrepreneurs partageront leurs retours d’expériences, heureuses ou malheureuses, à travers différents points :\n\n	Le bon timing\n	La prospection et les salons\n	Les capacités humaines, matérielles et financières\n	Les bons partenaires à l’étranger\n	La réglementation et la culture de chaque pays\n	Les assurances et les paiements\n	Le rôle du dirigeant\n	Le portage par des clients Grands Comptes\n\n\nINTERVENANTS\n \n\n	Olivier KITTEN, CEO - AFFILOGIC\n	Jean-Philippe LERAT, CEO - SODIUS et NOVYSPEC\n	Laurent STEPHAN, CEO - 4MOD TECHNOLOGY\n	Vincent THARREAU, CEO - KIPLIN\n	Florence CROSSAY, Conseiller international - CCI INTERNATIONAL PAYS DE LA LOIRE\n	Ronan JOURDAIN, Directeur interrégional Délégué Dir Ouest, BUSINESS FRANCE\n\n \n\n\n	\n		\n			\n			JE M'INSCRIS* \n			\n		\n	\n\n\n* Participation gratuite mais inscription obligatoire\n \n\nCONTACT\nIsabelle LE ROUIC : 02.40.25.01.23  lerouic@atlanpole.fr\n\n\n\n\n 
BEGIN:VALARM
ACTION:DISPLAY
TRIGGER:-PT60M
DESCRIPTION:Petit-déjeuner atlanpolitain: "International: les coups gagnants, les pièges à éviter"
END:VALARM
END:VEVENT
END:VCALENDAR