BEGIN:VCALENDAR
VERSION:2.0
X-WR-TIMEZONE:Europe/Paris
PRODID:-//Audencia//NONSGML v1.0//EN
CALSCALE:GREGORIAN
BEGIN:VEVENT
SUMMARY:Dinner in Tokyo, Japan
DTSTART:20230914T123000
DTEND:20230914T150000
UID:1639
DTSTAMP:20260425T210117
LOCATION:Rio Brewing Company Bistro & Beer Garden Tokyo Midtown, プラザ ​1F 9 Chome-7 Akasaka, Minato-ku Tokyo, Japon
DESCRIPTION:Join the Audencia Alumni Tokyo chapter for a beautiful evening rich in exchanges, over good food and drinks! \n\nDate: Thursday 14 September 2023\nTime: 19:30 Tokyo Time\nVenue: Rio Brewing Company Bistro & Beer Garden\nTokyo Midtown, プラザ\n1F 9 Chome-7 Akasaka, Minato-ku\nTokyo, Japon\n \nQuestions? tcliu@audencia.com
BEGIN:VALARM
ACTION:DISPLAY
TRIGGER:-PT60M
DESCRIPTION:Dinner in Tokyo, Japan
END:VALARM
END:VEVENT
END:VCALENDAR