BEGIN:VCALENDAR
VERSION:2.0
X-WR-TIMEZONE:Europe/Paris
PRODID:-//Audencia//NONSGML v1.0//EN
CALSCALE:GREGORIAN
BEGIN:VEVENT
SUMMARY:Nantes : DATARAMA#8 Dataviz d'intérêt général
DTSTART:20230922T093000
DTEND:20230922T163000
UID:1637
DTSTAMP:20260425T210150
LOCATION:Audencia Mediacampus 41 boulevard de la Prairie au Duc, 44200 NANTES
DESCRIPTION:\nENTREE GRATUITE | INSCRIPTION OBLIGATOIRE (présentiel et distanciel) : Datarama #8 : Dataviz d'intérêt général Billets, Le ven 22 sept. 2023 à 09:30 | Eventbrite\n\nÀ l’heure où décideurs politiques et acteurs de la société civile doivent faire face à des enjeux complexes et urgents (pandémie de COVID-19, changement climatique, crise économique, inégalités, etc.), l’éditorialisation des données à travers la data-visualisation peut jouer un rôle crucial pour aider à comprendre et à communiquer sur ces problématiques d’intérêt général.\n \n\nEn présentant des données de façon claire et accessible, la data-visualisation peut faciliter la prise de décision en permettant aux décideurs politiques et acteurs de la société civile de percevoir les tendances, de comparer, de comprendre des interactions complexes entre différents domaines. De plus, en fournissant des informations fiables et vérifiables, à l’heure où algorithmes et intelligence artificielle peuvent brouiller les perceptions sur l’information et la manipulation des données, la data-visualisation peut aider à promouvoir la transparence et la responsabilité dans la prise de décision politique et la mesure de son impact.\n\nPeut-on dès lors parler de Dataviz d’intérêt général ?\n\nLa 8e édition de Datarama, l’évènement Dataviz de Nantes Digital Week, aura lieu le 22 septembre 2023 au Médiacampus et en ligne, pour discuter la relation entre visualisation de données et intérêt général avec ceux qui fabriquent la dataviz, qu’ils soient designers, chercheurs, communicants et journalistes, analystes ou simples passionnés.
BEGIN:VALARM
ACTION:DISPLAY
TRIGGER:-PT60M
DESCRIPTION:Nantes : DATARAMA#8 Dataviz d'intérêt général
END:VALARM
END:VEVENT
END:VCALENDAR