BEGIN:VCALENDAR
VERSION:2.0
X-WR-TIMEZONE:Europe/Paris
PRODID:-//Audencia//NONSGML v1.0//EN
CALSCALE:GREGORIAN
BEGIN:VEVENT
SUMMARY:Nantes : Conférence "Cybersécurité : notre démocratie en danger"
DTSTART:20230921T173000
DTEND:20230921T190000
UID:1636
DTSTAMP:20260425T210143
LOCATION:Audencia Atlantic Campus 8 route de la Jonelière, 44300 NANTES
DESCRIPTION:\nENTREE GRATUITE | INSCRIPTION OBLIGATOIRE : « Cybersécurité: notre démocratie en danger » Billets, Le jeu 21 sept. 2023 à 18:00 | Eventbrite\n\nLa digitalisation croissante des économies accroît aussi les risques de vulnérabilités.\nAinsi, les organisations et les individus peuvent se retrouver sous la menace des cybercriminels toujours plus armés et efficaces. Les faiblesses touchent par ricochet aussi le fonctionnement démocratique de nos pays.\n\nCette conférence traitera :\n\n\n	des menaces sur les entreprises et les individus,\n	des atteintes croissantes au fonctionnement démocratique,\n	des parades individuelles à prendre.\n\n\nCette conférence sera animée par nos 2 intervenants :\n\n\n	Sylvain Forge, Spécialiste en cybersécurité et membre du jury du prix du roman cyber (AGORA 41, ANSSI), et lauréat du Prix du Quai des Orfèvres 2018 avec Tension extrême (Fayard). Il a écrit une dizaine de romans dont Parasite (Mazarine, 2019) et Un parfum de soufre (Prix Plume d’argent 2016 du thriller francophone). Sauve-la (Fayard noir), son dernier thriller, a obtenu en 2020 le Prix Cognac du meilleur roman francophone et le Prix du roman Cyber 2021 (ANSSI et Agora 41). Le magazine Usine Nouvelle l’a classé comme « veilleur » dans la liste des 100 français qui comptent dans la cybersécurité.\n	Bertrand Venard, Professeur à l’Université d’Oxford et à Audencia, ses recherches portent sur la fraude économique, la cybersécurité et la corruption, en particulier dans les pays émergents. Il a notamment dirigé des projets sur la corruption pour le gouvernement du Bhoutan (2015-2020), la lutte contre la corruption pour le PRME (2010-2014), ou une étude européenne au sein de l’université d’Oxford sur la cybersécurité (2018-2021).\n
BEGIN:VALARM
ACTION:DISPLAY
TRIGGER:-PT60M
DESCRIPTION:Nantes : Conférence "Cybersécurité : notre démocratie en danger"
END:VALARM
END:VEVENT
END:VCALENDAR