BEGIN:VCALENDAR
VERSION:2.0
X-WR-TIMEZONE:Europe/Paris
PRODID:-//Audencia//NONSGML v1.0//EN
CALSCALE:GREGORIAN
BEGIN:VEVENT
SUMMARY:Afterwork Rentrée | Nantes
DTSTART:20231002T184500
DTEND:20231002T220000
UID:1635
DTSTAMP:20260425T210049
LOCATION:Le Lieu Dit 78 route de Vannes, 44100
DESCRIPTION:\n? Le Chapter Audencia Alumni Nantes fait sa rentrée ! ?\n \n\nNous vous donnons rendez-vous le lundi 02 octobre à 18h45 au Lieu-Dit pour un événement à la thématique surprise ! \n\nAu programme :\n\n? On parle transition écologique et sociale avec José Maillet, Responsable de Gaia\n\n? On relève le défi de Stéphane Coince et Etienne Redor, professeurs au sein d'Audencia, avec leur jeu "And the Winner Is" \n?On s'inspire du parcours d'entrepreneur engagé de Pierre-Yves Le Gal, fondateur du Lieu-Dit.\n\n\n? Nous avons hâte de vous retrouver ou rencontrer !\n\nMarjorie & Sixtine
BEGIN:VALARM
ACTION:DISPLAY
TRIGGER:-PT60M
DESCRIPTION:Afterwork Rentrée | Nantes
END:VALARM
END:VEVENT
END:VCALENDAR