BEGIN:VCALENDAR
VERSION:2.0
X-WR-TIMEZONE:Europe/Paris
PRODID:-//Audencia//NONSGML v1.0//EN
CALSCALE:GREGORIAN
BEGIN:VEVENT
SUMMARY:CCI France Chine Event: Joint Panel Discussion with Fench Tech Beijing - Climate Change and China's Energy Transition
DTSTART:20230912T120000
DTEND:20230912T150000
UID:1634
DTSTAMP:20260425T210149
LOCATION:CCI FRANCE CHINE Beijing Office Suites 201-222, 2F, Building 81, No. 4 Gongti North Road, Beijing
DESCRIPTION:\n \n\nIn the midst of China's monumental energy transition journey, where climate action and sustainable development take center stage, businesses find themselves at a pivotal crossroads. As China actively reshapes its energy landscape to align with global sustainability goals, companies operating within or eyeing entry into the Chinese energy market face an array of both promising opportunities and complex challenges.\n\n \n\nJoin us in this enlightening dialogue, where pragmatic insights will be shared on working with local entities, navigating government policies, collaborating with state-owned enterprises, and fostering cross-industry innovation. From the rapid rise of renewable energies to the integration of innovative solutions, this event will decode the strategies that companies must adopt to thrive in this dynamic environment.\n\n \n\nDate: Tuesday 12 September \n\nTime:  6:00 pm - 6:30 pm: Registration\n\n            6:30 pm - 7:00 pm: Introduction & Keynote\n\n            7:00 pm - 8:15 pm: Panel & Q&A\n\n            8:15 pm - 9:00 pm: Cocktail & Networking\n\nVenue: CCI FRANCE CHINE Beijing Office, Suites 201-222, 2F, Building 81, No. 4 Gongti North Road, Beijing\n\nWebinar: The connection information will be sent by email before the event\n\nLanguage: English\n\nScan the QR code or click here to register\n \n\n
BEGIN:VALARM
ACTION:DISPLAY
TRIGGER:-PT60M
DESCRIPTION:CCI France Chine Event: Joint Panel Discussion with Fench Tech Beijing - Climate Change and China's Energy Transition
END:VALARM
END:VEVENT
END:VCALENDAR