BEGIN:VCALENDAR
VERSION:2.0
X-WR-TIMEZONE:Europe/Paris
PRODID:-//Audencia//NONSGML v1.0//EN
CALSCALE:GREGORIAN
BEGIN:VEVENT
SUMMARY:CCI France Chine Welcome Back Cocktail @ Shanghai
DTSTART:20230921T123000
DTEND:20230921T150000
UID:1633
DTSTAMP:20260425T210031
LOCATION:Saint-Gobain New Regional Office 15F, SUHE Center, No. 99 North Shanxi Road Jing'an District Shanghai, China
DESCRIPTION:\n \n\nAs per tradition, the time has come again to host our Welcome Back Cocktail, in the presence of CCI FRANCE CHINE's Board Members and Caroline Penard, General Manager of CCI FRANCE CHINE. We are delighted to invite you to this exclusive event.\n\n \n\nDate: Thursday, 21 September 2023\n\nTime: 6:30PM - 9:00PM\n\nLocation: Saint-Gobain New Regional Office\n\n上海方静安区山西北路99号苏河湾中心15楼\n15F, SUHE Center, No. 99 North Shanxi Road Jing'an District Shanghai 200071, China
BEGIN:VALARM
ACTION:DISPLAY
TRIGGER:-PT60M
DESCRIPTION:CCI France Chine Welcome Back Cocktail @ Shanghai
END:VALARM
END:VEVENT
END:VCALENDAR