BEGIN:VCALENDAR
VERSION:2.0
X-WR-TIMEZONE:Europe/Paris
PRODID:-//Audencia//NONSGML v1.0//EN
CALSCALE:GREGORIAN
BEGIN:VEVENT
SUMMARY:CCI France Chine Welcome Back Cocktail @ Shenzhen
DTSTART:20230914T123000
DTEND:20230914T160000
UID:1632
DTSTAMP:20260425T210316
LOCATION:Qianhai International Talent Hub 前海国际人才港 广东省深圳市南山区梦海大道5073号 三楼港湾报告厅 3F Bay Auditorium, no. 5073, Menghai Avenue, Nanshan District, Shenzhen,  Guangdong, China
DESCRIPTION:\n\n\nAs per tradition, the time has come again to host our Welcome Back Cocktail, in the presence of CCI FRANCE CHINE's Board Members and Caroline Penard, General Manager of CCI FRANCE CHINE. We are delighted to invite you to this exclusive event.\n\n \n\nDate: Thursday, 14 September 2023\n\nTime: 6:30 PM - 10:00 PM\n\nVenue: Qianhai International Talent Hub 前海国际人才港\n\n广东省深圳市南山区梦海大道5073号 三楼港湾报告厅\n\n3F Bay Auditorium, no. 5073, Menghai Avenue, Nanshan District, Shenzhen, Guangdong Province
BEGIN:VALARM
ACTION:DISPLAY
TRIGGER:-PT60M
DESCRIPTION:CCI France Chine Welcome Back Cocktail @ Shenzhen
END:VALARM
END:VEVENT
END:VCALENDAR