BEGIN:VCALENDAR
VERSION:2.0
X-WR-TIMEZONE:Europe/Paris
PRODID:-//Audencia//NONSGML v1.0//EN
CALSCALE:GREGORIAN
BEGIN:VEVENT
SUMMARY:CCI France Chine Welcome Back Cocktail @ Guangzhou
DTSTART:20230913T123000
DTEND:20230913T160000
UID:1631
DTSTAMP:20260425T210208
LOCATION:Party Pier B Area 4-5F, No. 118 Yuejiang West Road, Haizhu District, Guangzhou, Guangdong, China
DESCRIPTION:\n \n\nAs per tradition, the time has come again to host our Welcome Back Cocktail, in the presence of CCI FRANCE CHINE's Board Members and Caroline Penard, General Manager of CCI FRANCE CHINE. We are delighted to invite you to this exclusive event.\n\n \n\nDate: Wednesday, 13 September 2023\n\nTime: 6:30PM - 10:00PM\n\nLocation: Guangzhou Food Stalls 广州大排档\n\nParty Pier B Area 4-5F, No. 118 Yuejiang West Road, Haizhu District, Guangzhou\n\n广州市海珠区阅江西路118号珠江琶醍B区4-5楼
BEGIN:VALARM
ACTION:DISPLAY
TRIGGER:-PT60M
DESCRIPTION:CCI France Chine Welcome Back Cocktail @ Guangzhou
END:VALARM
END:VEVENT
END:VCALENDAR