BEGIN:VCALENDAR
VERSION:2.0
X-WR-TIMEZONE:Europe/Paris
PRODID:-//Audencia//NONSGML v1.0//EN
CALSCALE:GREGORIAN
BEGIN:VEVENT
SUMMARY:CCI France Chine Welcome Back Cocktail @ Beijing
DTSTART:20230907T123000
DTEND:20230907T150000
UID:1630
DTSTAMP:20260425T210043
LOCATION:Suites 201-222, 2F, Building 81, No. 4 Gongti North Road, Chaoyang District, Beijing
DESCRIPTION:\n\n\n \n\nAs per tradition, the time has come again to host our Welcome Back Cocktail, in the presence of CCI FRANCE CHINE's Board Members and Caroline Penard, General Manager of CCI FRANCE CHINE. We are delighted to invite you to this exclusive event.\n\n \n\nDate: Thursday, 7 September 2023\n\nTime: 6:30PM - 9:00PM\n\nLocation: CCI FRANCE CHINE Beijing Office\n\nSuites 201-222, 2F, Building 81, No. 4 Gongti North Road, Chaoyang District, Beijing\n\n北京市朝阳区工体北路4号院81号楼二层201-222室\n
BEGIN:VALARM
ACTION:DISPLAY
TRIGGER:-PT60M
DESCRIPTION:CCI France Chine Welcome Back Cocktail @ Beijing
END:VALARM
END:VEVENT
END:VCALENDAR