BEGIN:VCALENDAR
VERSION:2.0
X-WR-TIMEZONE:Europe/Paris
PRODID:-//Audencia//NONSGML v1.0//EN
CALSCALE:GREGORIAN
BEGIN:VEVENT
SUMMARY:MBA networking session at Audencia Atlantic Campus, Nantes
DTSTART:20180222T163000
DTEND:20180222T173000
UID:163
DTSTAMP:20260425T210119
LOCATION:Audencia Atlantic Campus  Room 239
DESCRIPTION:When you have a mechanical engineering degree from a university in Venezuela and 7 years experience in well construction at remote locations for oil and gas company Schlumnberger, what makes you choose to do an MBA in France?\n\nCurrently working in Germany as Director Commercial Program Management, Powertrain Services for British multinational GKN, Luis Prato (MBA 08) is coming to Audencia to share his pre- and post-MBA career experiences with current MBA students.\n\n\n \n\n	Thursday 22nd February 2018\n	16.30 - 17.30\n	Room 239\n\n \n\nThis session is open to current MBA students only\nPlease register on TOMORROW!
BEGIN:VALARM
ACTION:DISPLAY
TRIGGER:-PT60M
DESCRIPTION:MBA networking session at Audencia Atlantic Campus, Nantes
END:VALARM
END:VEVENT
END:VCALENDAR