BEGIN:VCALENDAR
VERSION:2.0
X-WR-TIMEZONE:Europe/Paris
PRODID:-//Audencia//NONSGML v1.0//EN
CALSCALE:GREGORIAN
BEGIN:VEVENT
SUMMARY:CCI France Chine Event: Compliance européenne et souveraineté chinoise - comment protéger les entreprises françaises en Chine contre l'extraterritorialité du droit européen ?
DTSTART:20230905T123000
DTEND:20230905T133000
UID:1629
DTSTAMP:20260425T210045
LOCATION:Bureau de la CCI FRANCE CHINE Shanghai
DESCRIPTION:Introduction\n\n \n\nLes entreprises françaises en Chine doivent anticiper au quotidien leur environnement juridique local, des règlementations régionales et internationales mais aussi des lois à portée extraterritoriale. Cette extraterritorialité est à l'origine d'une insécurité juridique pour les entreprises françaises en Chine: le risque est de les voir contraintes de se retirer du marché chinois face pour respecter la compliance européenne. Le projet de directive sur la gouvernance durable du 23 février 2022 qui prévoit un devoir de vigilance européen illustre ce dilemme auquel sont confrontées les entreprises françaises en Chine : l'objectif est de prévenir les atteintes aux droits de l'Homme et à l'environnement dans la chaîne de valeurs de l'entreprise française dans son ensemble, en ce compris ses fournisseurs, partenaires ou sous-traitants chinois.\n\n \n\nContenu \n\n \n\n\n	Comment les entreprises françaises sont assujetties à la compliance européenne pour leurs activités en Chine.\n	Règles et méthodologies permettant d’intérioriser les cumuls de régimes juridiques.\n	Comment gérer les frictions ou contradictions (localisation objective, libre choix du droit applicable, lois de police) pour répondre aux exigences de conformité.\n\n\n \n\nAgenda\n\n \n\n\n	Panorama des réglementations européennes d’application extraterritoriale -Sylvie Le Damany\n	L'essor de la souveraineté numérique : conformité et contrôles souverains sur le Cloud - Edouard Lemoalle\n\n\n \n\nDate: Mardi 5 Septembre \n\nHeure (Chine) : 18:30 - 19:30 \n\nLangue: Français\n\nFormat: Présentiel+ Webinar\n\nLieu: Bureau de la CCI FRANCE CHINE Shanghai ou Webinar    \n \n\nScannez the QR code ou cliquez ici\n\n\n
BEGIN:VALARM
ACTION:DISPLAY
TRIGGER:-PT60M
DESCRIPTION:CCI France Chine Event: Compliance européenne et souveraineté chinoise - comment protéger les entreprises françaises en Chine contre l'extraterritorialité du droit européen ?
END:VALARM
END:VEVENT
END:VCALENDAR