BEGIN:VCALENDAR
VERSION:2.0
X-WR-TIMEZONE:Europe/Paris
PRODID:-//Audencia//NONSGML v1.0//EN
CALSCALE:GREGORIAN
BEGIN:VEVENT
SUMMARY:Soirée Ingénieurs-Managers [Paris]
DTSTART:20231107T180000
DTEND:20231107T224500
UID:1628
DTSTAMP:20260425T210325
LOCATION:INSEP 11, avenue du Tremblay 75012 Paris
DESCRIPTION:\n\n- Soirée réservée aux Ingénieurs-Managers -\nVisite exceptionnelle de l'INSEP\n\n\n\n\nChers Ingénieurs-Managers,\n \nVous le savez... 2024 sera l'année des Jeux Olympiques.\nPlongez-vous, le temps d'une soirée, dans les coulisses de ces J.O. parisiens !\n\nVenez networker et rencontrer la Direction d'Audencia au sein de l'INSEP, centre d'entraînement des athlètes qui participeront aux Jeux Olympiques 2024.\n \n\nMardi 7 novembre\nà 18h, 18h30 ou 19h15\n(explications plus bas)\n\n\n\nL'événement se déroulera en 2 temps :\n\n1/ Une visite exceptionnelle de l'INSEP par son responsable, pour ceux qui le souhaitent, en présence d'athlètes.\n    18h OU 18h30, deux horaires au choix.\n\n  Attention, pas de retard possible, vérifiez bien vos temps de transport !\n\n \n\n\n	18h : visite détaillée d'1h15 des locaux de l'INSEP\n	18h30 : visite de 45 min de certains espaces de l'INSEP\n\n\n  >> Inscription par e-mail auprès de Nushad Merchant, nushad.merchant@audencia.com, en précisant l'horaire souhaité de la visite (18h ou 18h30)\n\n\n2/ Un temps d'échange avec la Direction d'Audencia suivi d'un cocktail dinatoire\n    => de 19h15 à 22h45\n \n\n>> Gratuit sur inscription <<\n[en haut à droite en vous connectant sous vos identifiants]\nContact : lcaliez@audencia.com
BEGIN:VALARM
ACTION:DISPLAY
TRIGGER:-PT60M
DESCRIPTION:Soirée Ingénieurs-Managers [Paris]
END:VALARM
END:VEVENT
END:VCALENDAR