BEGIN:VCALENDAR
VERSION:2.0
X-WR-TIMEZONE:Europe/Paris
PRODID:-//Audencia//NONSGML v1.0//EN
CALSCALE:GREGORIAN
BEGIN:VEVENT
SUMMARY:Chapter New York: Back to school - Afterwork
DTSTART:20230907T130000
DTEND:20230907T150000
UID:1626
DTSTAMP:20260425T210211
LOCATION:O Cabanon bar (Midtown) New York
DESCRIPTION: \nDear Friends of French Grandes Ecoles,\n\nYou are invited to the AAGEF Afterwork Fall 2023 on Thursday Sept 7th. The event will take place at the O Cabanon bar (Midtown) on the mezzanine floor starting at 6pm.\n\nThe registration fee covers: entrance to the event, a glass of wine or beer and some passed canapes.\n \n\nRegistrations are compulsory ?? https://rb.gy/ohyvm
BEGIN:VALARM
ACTION:DISPLAY
TRIGGER:-PT60M
DESCRIPTION:Chapter New York: Back to school - Afterwork
END:VALARM
END:VEVENT
END:VCALENDAR