BEGIN:VCALENDAR
VERSION:2.0
X-WR-TIMEZONE:Europe/Paris
PRODID:-//Audencia//NONSGML v1.0//EN
CALSCALE:GREGORIAN
BEGIN:VEVENT
SUMMARY:Webinar: Future-Proof Your Career: Strategies for Thriving in a Changing World
DTSTART:20231010T160000
DTEND:20231010T170000
UID:1625
DTSTAMP:20260425T210207
LOCATION:
DESCRIPTION:AMBA webinar "Engage your audience; 5 tips on body language that will make a difference"\n\nDate: Tuesday 10 October 2023\nTime: 16:00-17:00 Paris time\n\n\nThe AMBA & BGA Membership team are delighted to invite you to attend Future-Proof Your Career: Strategies for Thriving in a Changing World with Antoinette Oglethorpe. Book your place and learn more about our topic & speaker below.\n \n\nAbout the webinar\n\nThe winds of change are always blowing, but lately, they’ve become more like gales. As the world races forward, fuelled by technological advancements and shifting paradigms, the familiar career landscapes of today might soon become uncharted territories. The question isn’t whether change will come, but rather if you’re prepared to navigate it.\n\nImagine a world where your current job role is radically changed or even obsolete. Picture an industry reshaped by innovations you hadn’t anticipated. But, instead of feeling overwhelmed, you’re ahead of the curve, prepared, and confident.\n\nJoin us as we discuss:\n\n\n	Redefining Career Resilience: Understand the true essence of futureproofing and why it’s no longer a luxury but a necessity for career advancement.\n	Shared Responsibility: Discover the dynamic between your individual efforts and what you can expect from your managers and organisation in charting your career trajectory.\n	Blueprints to Success: Equip yourself with actionable strategies to not only safeguard but also amplify your career prospects, irrespective of external changes\n\n \n\nBOOK YOUR PLACE FOR THE WEBINAR\n\nAbout our speaker\n\nAntoinette Oglethorpe is a multi-award-winning specialist in career management and mentoring. Her mission is to help people realise their potential and fulfil their ambitions so that organisations benefit from the increased productivity that results when people are happier at work.\n\nFollowing 25 years’ experience as a Learning and Development Director for Accenture, Avanade and FTSE 500 companies, Antoinette founded her eponymous training and coaching company in 2012.\n\nAntoinette is also author of new book Confident Career Conversations: Empower Your Employees for Career Growth and Retention which is published by Rethink Press.\n\n\nDid you graduate from an AMBA-accredited programme at Audencia?\n\nThis webinar is accessible to students or alumni of an AMBA-accredited programme at Audencia, i.e., Executive MBA, EuroMBA, International (Full-Time) MBA or Master in Management (Grande Ecole Programme), but registration is required. Registering as an alum of an AMBA-accredited programme takes only a few minutes.\n\nThis event is free for AMBA members to attend but registration is required using the link above.\n \n\n
BEGIN:VALARM
ACTION:DISPLAY
TRIGGER:-PT60M
DESCRIPTION:Webinar: Future-Proof Your Career: Strategies for Thriving in a Changing World
END:VALARM
END:VEVENT
END:VCALENDAR