BEGIN:VCALENDAR
VERSION:2.0
X-WR-TIMEZONE:Europe/Paris
PRODID:-//Audencia//NONSGML v1.0//EN
CALSCALE:GREGORIAN
BEGIN:VEVENT
SUMMARY:Webinar: Engage your audience; 5 tips on body language that will make a difference
DTSTART:20230912T140000
DTEND:20230912T150000
UID:1624
DTSTAMP:20260425T210114
LOCATION:
DESCRIPTION:AMBA webinar "Engage your audience; 5 tips on body language that will make a difference"\n\nDate: Tuesday 12 September 2023\nTime: 14:00-15:00 Paris time\n\n\nThe AMBA & BGA Membership team are delighted to invite you to attend Engage your audience; 5 tips on body language that will make a difference with Vickie Lea Payne. Book your place and learn more about our topic & speaker below.\n \n\nAbout the webinar\n\nThose who don’t use body language and just keep talking, risk losing the listener. These top 5 tips on body language can make a difference.\n\nYou can dominate discussions, focus on sorting things out, fix things quickly and efficiently – not realising you are losing relationships around you, both personally and professionally. You may be unaware of the difference between listening and talking and you may also be unaware of taking into account body language, yours and theirs. Losing a supportive relationship, trust of staff, or a potential contract has a high cost.\n\nInvesting time into non-verbal language can give you a ROI. As an expert in communications, Vickie Lea is going to share with you these top 5 tips, that you can instigate immediately.\n \n\nBOOK YOUR PLACE FOR THE WEBINAR\n\nAbout our speaker\n\nVickie Lea Payne\n\n“Your knowledge sharing changed my thinking” other experts say, “the consequences of listening to Vickie Lea is that you understand yourself more and recognise personal and professional success requires soft skills”.\n\nVickie Lea is a Fellow of the Institute of Consulting (CMI), has her own consultancy, and is an author for Bookboon Publishing (business and academic books that advise C Suite of major worldwide companies). Vickie Lea is also a Speaker for UK Researchers and an MBA UK Lecturer specialising in Leadership, Organisational Behaviour, Innovation and Technology. With over 50 countries visited and 40 years in business, Vickie Lea delivers insight that is realistic and useful. She is a plain speaking Aussie, living in Manchester, who makes the complicated, simple and fun.\n\n\nDid you graduate from an AMBA-accredited programme at Audencia?\n\nThis webinar is accessible to students or alumni of an AMBA-accredited programme at Audencia, i.e., Executive MBA, EuroMBA, International (Full-Time) MBA or Master in Management (Grande Ecole Programme), but registration is required. Registering as an alum of an AMBA-accredited programme takes only a few minutes.\n\nThis event is free for AMBA members to attend but registration is required using the link above.\n \n\n
BEGIN:VALARM
ACTION:DISPLAY
TRIGGER:-PT60M
DESCRIPTION:Webinar: Engage your audience; 5 tips on body language that will make a difference
END:VALARM
END:VEVENT
END:VCALENDAR