BEGIN:VCALENDAR
VERSION:2.0
X-WR-TIMEZONE:Europe/Paris
PRODID:-//Audencia//NONSGML v1.0//EN
CALSCALE:GREGORIAN
BEGIN:VEVENT
SUMMARY:Lunch Talk: Audencia Alumni & Campus France
DTSTART:20230722T053000
DTEND:20230722T073000
UID:1621
DTSTAMP:20260425T211127
LOCATION:Costal City, Nanshan, Shenzhen, Guangdong, China
DESCRIPTION:
BEGIN:VALARM
ACTION:DISPLAY
TRIGGER:-PT60M
DESCRIPTION:Lunch Talk: Audencia Alumni & Campus France
END:VALARM
END:VEVENT
END:VCALENDAR