BEGIN:VCALENDAR
VERSION:2.0
X-WR-TIMEZONE:Europe/Paris
PRODID:-//Audencia//NONSGML v1.0//EN
CALSCALE:GREGORIAN
BEGIN:VEVENT
SUMMARY:MBA Community alumni talks, Nantes
DTSTART:20231024T170000
DTEND:20231024T183000
UID:1620
DTSTAMP:20260425T210115
LOCATION:Terrain Neutre Théâtre, Allée de la Maison Rouge, Nantes
DESCRIPTION:An MBA Community event for current participants and alumni from Audencia's MBA programmes\n\nIn honour of the Executive MBA Algiers learning trip to Nantes, the MBA team and Audencia Alumni are pleased to invite you to the MBA Alumni Talks; an opportunity to meet and share experiences with alumni.\nDate: Tuesday 24 October\nTime: from 17:00 to 18:30\nVenue: Terrain Neutre Théâtre, Allée de la Maison Rouge, Nantes\n \nPlaces are limited so registration is mandatory\n\n \n\n
BEGIN:VALARM
ACTION:DISPLAY
TRIGGER:-PT60M
DESCRIPTION:MBA Community alumni talks, Nantes
END:VALARM
END:VEVENT
END:VCALENDAR