BEGIN:VCALENDAR
VERSION:2.0
X-WR-TIMEZONE:Europe/Paris
PRODID:-//Audencia//NONSGML v1.0//EN
CALSCALE:GREGORIAN
BEGIN:VEVENT
SUMMARY:MBA Community networking event, Nantes
DTSTART:20231024T190000
DTEND:20231024T220000
UID:1619
DTSTAMP:20260425T210208
LOCATION:Crepizz, 11 Allée de la Maison Rouge, Nantes
DESCRIPTION:An MBA Community event for current participants and alumni from Audencia's MBA programmes\n\nIn honour of the Executive MBA Algiers learning trip to Nantes, the MBA team and Audencia Alumni are pleased to invite you to a networking evening.\nDate: Tuesday 24 October\nTime: from 19:00 to 22:00\nVenue: Crepizz, 11 Allée de la Maison Rouge, 44000 Nantes\n \nPlaces are limited so registration is mandatory\n\n\n
BEGIN:VALARM
ACTION:DISPLAY
TRIGGER:-PT60M
DESCRIPTION:MBA Community networking event, Nantes
END:VALARM
END:VEVENT
END:VCALENDAR