BEGIN:VCALENDAR
VERSION:2.0
X-WR-TIMEZONE:Europe/Paris
PRODID:-//Audencia//NONSGML v1.0//EN
CALSCALE:GREGORIAN
BEGIN:VEVENT
SUMMARY:Cécile Lacharme (GE 19) in concert in Toronto
DTSTART:20230804T190000
DTEND:20230804T210000
UID:1618
DTSTAMP:20260425T210124
LOCATION:SOFAR SOUNDS TORONTO The Annex
DESCRIPTION:Cécile Lacharme's (GE 19) solo Canadian tour continues\n\nCécile is thrilled to announce her upcoming solo tour in Quebec & Ontario! \n\nDate: Friday 4 August\nTime: from 7pm\nVenue: SOFAR SOUNDS TORONTO, The Annex\n \nBook your ticket\n\n\n
BEGIN:VALARM
ACTION:DISPLAY
TRIGGER:-PT60M
DESCRIPTION:Cécile Lacharme (GE 19) in concert in Toronto
END:VALARM
END:VEVENT
END:VCALENDAR