BEGIN:VCALENDAR
VERSION:2.0
X-WR-TIMEZONE:Europe/Paris
PRODID:-//Audencia//NONSGML v1.0//EN
CALSCALE:GREGORIAN
BEGIN:VEVENT
SUMMARY:Cécile Lacharme (GE 19) in concert in Toronto
DTSTART:20230803T190000
DTEND:20230803T210000
UID:1617
DTSTAMP:20260425T210208
LOCATION:BLUE BIRD BAR 2072 Dundas St W, Toronto, ON M6R 1W9
DESCRIPTION:Cécile Lacharme's (GE 19) solo Canadian tour continues\n\nCécile is thrilled to announce her upcoming solo tour in Quebec & Ontario! \n\nDate: Thursday 3 August\nTime: from 7pm\nVenue: BLUE BIRD BAR, 2072 Dundas St W, Toronto, ON M6R 1W9\n \nBook your ticket\n\n\n
BEGIN:VALARM
ACTION:DISPLAY
TRIGGER:-PT60M
DESCRIPTION:Cécile Lacharme (GE 19) in concert in Toronto
END:VALARM
END:VEVENT
END:VCALENDAR