BEGIN:VCALENDAR
VERSION:2.0
X-WR-TIMEZONE:Europe/Paris
PRODID:-//Audencia//NONSGML v1.0//EN
CALSCALE:GREGORIAN
BEGIN:VEVENT
SUMMARY:Cécile Lacharme (GE 19) en concert à Montréal
DTSTART:20230731T200000
DTEND:20230731T210000
UID:1616
DTSTAMP:20260425T210122
LOCATION:Quai des Brumes Rue Saint Denis Montréal
DESCRIPTION:Tournée canadienne pour Cécile Lacharme (GE 19)\n\nCécile est ravie d'annoncer sa tournée solo avec des dates au Québec et en Ontario.\n\nDate: Lundi 31 juillet\nHeure:  à partir de 20:00\nLieu: Quai des Brumes, Rue Saint Denis, Montréal\n \nRéservez votre place\n\n\n
BEGIN:VALARM
ACTION:DISPLAY
TRIGGER:-PT60M
DESCRIPTION:Cécile Lacharme (GE 19) en concert à Montréal
END:VALARM
END:VEVENT
END:VCALENDAR