BEGIN:VCALENDAR
VERSION:2.0
X-WR-TIMEZONE:Europe/Paris
PRODID:-//Audencia//NONSGML v1.0//EN
CALSCALE:GREGORIAN
BEGIN:VEVENT
SUMMARY:Networking in Toronto, Canada with AAGEF
DTSTART:20230830T180000
DTEND:20230830T210000
UID:1615
DTSTAMP:20260425T210325
LOCATION:Toronto - exact venue coming soon
DESCRIPTION:SAVE THE DATE - more details coming soon!\n\nDate: Wednesday 30 August 2023\nTime: from 6pm\nVenue: to be confirmed ASAP\n\nJoin us at the AAGEF (Association des Amis des Grandes Ecoles Françaises) event\n\nAgenda :\n\n	6:00pm Networking\n	7:00pm Keynote address and Q&A\n	8:00pm Networking\n\n \n\nRegistration details coming soon\n \n \n\n\n\nAAGEF Ontario, with over 2,000 executives, is a networking association of French Elite Graduate Schools alumni, living and working in Ontario. We also welcome Ontario-based alumni of Canadian and global Elite Universities. Follow AAGEF on LinkedIn.\n\n\n\n \n\n \n\n 
BEGIN:VALARM
ACTION:DISPLAY
TRIGGER:-PT60M
DESCRIPTION:Networking in Toronto, Canada with AAGEF
END:VALARM
END:VEVENT
END:VCALENDAR